BEGIN:VCALENDAR
VERSION:2.0
CALSCALE:GREGORIAN
PRODID:adamgibbons/ics
METHOD:PUBLISH
X-PUBLISHED-TTL:PT1H
BEGIN:VEVENT
UID:WEFwY1m4W-4HW4IJC6oA3
SUMMARY:Apache Cloudberry™ и Greenplum®: эволюция платформы и опыт DBA
DTSTAMP:20260417T081300Z
DTSTART:20260422T090000Z
DTEND:20260422T100000Z
DESCRIPTION:22 апреля приглашаем на вебинар о развитии MPP-аналитики в Yand
	ex Cloud. Вместе с экспертами разберём\, как устроен Apache Cloudberry™ и 
	чем он отличается от Greenplum®\, а также покажем\, какие инструменты уже 
	сейчас доступны DBA для повседневной работы с Greenplum®-кластерами в сост
	аве сервиса Yandex MPP Analytics Engine for PostgreSQL.\n\n**Обзор Apache 
	Cloudberry™.** Расскажем\, как устроен Cloudberry\, почему модель Apache W
	ay обеспечивает долгосрочное развитие проекта без vendor lock-in\, как выг
	лядит дорожная карта и что ждёт платформу дальше.\n\n**Технические отличия
	 Cloudberry от Greenplum®.** Сравним платформы на уровне архитектуры: обно
	влённое ядро PostgreSQL\, гибридный движок хранения PAX\, PXF в сборке Clo
	udberry\, результаты тестов производительности\, особенности ресурсных гру
	пп\, возможности для тестирования в облаке и статус работ по in-place мигр
	ации — обновлению ядра базы данных с Greenplum® на Cloudberry.\n\n**Практи
	ка DBA: командный центр Greenplum® в Yandex Cloud.** Покажем возможности к
	омандного центра — инструмента для мониторинга\, диагностики и тюнинга Gre
	enplum®-кластеров в составе сервиса Yandex MPP Analytics Engine for Postgr
	eSQL. Разберём\, как в реальном времени отслеживать состояние сессий и зап
	росов\, находить и прерывать ресурсоёмкие операции\, анализировать историю
	 состояний кластера и потребление ресурсов (CPU time\, Peak memory\, Spill
	\, Disk I/O)\, группировать и профилировать запросы по пользователям\, баз
	ам данных и ресурсным группам\, а также использовать планы выполнения и се
	тевую статистику interconnect для диагностики проблем.\n\nВебинар будет по
	лезен:\n●Пользователям Greenplum®\, которые оценивают перспективы платформ
	ы.\n●Командам\, рассматривающим Cloudberry как опенсорс решение для аналит
	ических задач.\n●DBA\, инженерам эксплуатации и всем\, кому важны монитори
	нг\, диагностика и удобство повседневной работы с Greenplum®-кластерами в 
	облаке.
URL:https://cloud.yandex.ru/ru-ru/events/1476
STATUS:CONFIRMED
END:VEVENT
END:VCALENDAR
