BEGIN:VCALENDAR
VERSION:2.0
CALSCALE:GREGORIAN
PRODID:adamgibbons/ics
METHOD:PUBLISH
X-PUBLISHED-TTL:PT1H
BEGIN:VEVENT
UID:yyLLTn5c3rPGOnHBO0Cnz
SUMMARY:Вычисления\, анализ и визуализация данных с ИИ-агентами в Yandex AI
	 Studio
DTSTAMP:20260417T081700Z
DTSTART:20260423T090000Z
DTEND:20260423T100000Z
DESCRIPTION:Задачи анализа и визуализации данных есть почти у всех: бухгалт
	еров\, финансистов\, маркетологов\, продажников\, HR и других сотрудников.
	 Особенно в конце отчётных периодов — месяца\, квартала\, года.\n\nОбычно 
	приходится извлекать данные из CSV и Excel\, проводить базовые математичес
	кие операции или статистический анализ — искать тренды\, точки роста или л
	ишние расходы\, а затем строить графики. Это отнимает много времени и увел
	ичивает нагрузку на бизнес.\n\n23 апреля\, в 12:00 (мск) на вебинаре мы по
	говорим о том\, как с помощью нового инструмента Code Interpreter создать 
	ИИ-агента\, который ускорит и упростит базовую аналитику.\n\nВы узнаете:\n
	\n* о возможностях современных ИИ-агентов и агентских инструментов\;\n\n* 
	что такое Code Interpreter\, чем он отличается от RAG и загрузки файлов на
	прямую в LLM\;\n\n* как Code Interpreter работает с технической точки зрен
	ия\;\n\n* как оптимизировать стоимость использования инструмента.\n\nТакже
	 разберём реальные кейсы создания агентов для аналитических задач.\n\nЖдём
	 на вебинаре разработчиков\, архитекторов и менеджеров — технических\, про
	дуктовых и проектных.
URL:https://cloud.yandex.ru/ru-ru/events/1477
STATUS:CONFIRMED
END:VEVENT
END:VCALENDAR
