BEGIN:VCALENDAR
VERSION:2.0
CALSCALE:GREGORIAN
PRODID:adamgibbons/ics
METHOD:PUBLISH
X-PUBLISHED-TTL:PT1H
BEGIN:VEVENT
UID:lbWx-fq11NVLFO7bNetVl
SUMMARY:Контроль и защита данных на арендованной инфраструктуре
DTSTAMP:20260420T181500Z
DTSTART:20260428T090000Z
DTEND:20260428T100000Z
DESCRIPTION:Сегодня многие компании предъявляют к арендованной инфраструкту
	ре все более высокие требования: уже недостаточно только высокопроизводите
	льных ресурсов -рынок ожидает гарантированной надёжности\, прозрачности пр
	оцессов и ценообразования и защиты данных как неотъемлемой части инфрастру
	ктурного фундамента.\n\n28 апреля\, в 12:00 мск на вебинаре расскажем\, ка
	к в сервисе аренды выделенных физических серверов Yandex BareMetal защищаю
	тся данные на всех уровнях — от физической инфраструктуры дата-центров до 
	сетевого периметра и управления доступом. Покажем\, какие механизмы защиты
	 уже встроены в сервис\, какие инструменты можно использовать дополнительн
	о и как выстроить надёжный контур безопасности на практике. Также разберём
	 реальные кейсы и лучшие практики пользователей.\n\nНа вебинаре вы узнаете
	:\n\n* как устроена защита на физическом и аппаратном уровнях Yandex BareM
	etal\;\n\n* как обеспечивается сетевая безопасность\;\n\n* какие инструмен
	ты использовать для защиты внешнего периметра.\n\nОтдельно разберём практи
	ческие кейсы реализации: от построения безопасных сетевых соединений с on-
	premises и облаком до реализации SOC-мониторинга для автоматического обнар
	ужения атак.\n\nЖдём на вебинаре всех\, кто уже работает с сервисом или то
	лько планирует использовать Yandex BareMetal: разработчиков\, системных ад
	министраторов\, инженеров\, архитекторов\, а также ИБ-специалистов.
URL:https://cloud.yandex.ru/ru-ru/events/1480
STATUS:CONFIRMED
END:VEVENT
END:VCALENDAR
