Workbook

Sheet Прайс
A2: Прайс лист черенка на 2026
A9: № | B9: Наименование | C9: Объём заказа, шт.
C10: до 1056 | D10: 1056 | E10: 5088 | F10: 10080 | G10: 20064 | H10: 50016
A11: 1 | B11: Thuja occidentalis Brabant | C11: 100 | D11: 79 | E11: 69 | F11: 59 | G11: 49 | H11: 40
A12: 2 | B12: Thuja occidentalis Columna | C12: 100 | D12: 79 | E12: 69 | F12: 59 | G12: 49 | H12: 40
A13: 3 | B13: Thuja occidentalis Ellwangeriana Aurea | C13: 120 | D13: 89 | E13: 79 | F13: 69 | G13: 59 | H13: 49
A14: 4 | B14: Thuja occidentalis Frieslandia | C14: 120 | D14: 89 | E14: 79 | F14: 69 | G14: 59 | H14: 49
A15: 5 | B15: Thuja occidentalis Globosa | C15: 100 | D15: 79 | E15: 69 | F15: 59 | G15: 49 | H15: 40
A16: 6 | B16: Thuja occidentalis Globosa Aurea | C16: 120 | D16: 89 | E16: 79 | F16: 69 | G16: 59 | H16: 49
A17: 7 | B17: Thuja occidentalis Golden Brabant | C17: 120 | D17: 89 | E17: 79 | F17: 69 | G17: 59 | H17: 49
A18: 8 | B18: Thuja occidentalis Golden Globe | C18: 120 | D18: 89 | E18: 79 | F18: 69 | G18: 59 | H18: 49
A19: 9 | B19: Thuja occidentalis Little Giant | C19: 120 | D19: 89 | E19: 79 | F19: 69 | G19: 59 | H19: 49
A20: 10 | B20: Thuja occidentalis Mr Bowling Ball | C20: 120 | D20: 89 | E20: 79 | F20: 69 | G20: 59 | H20: 49
A21: 11 | B21: Thuja occidentalis Pyramidalis Compacta | C21: 120 | D21: 89 | E21: 79 | F21: 69 | G21: 59 | H21: 49
A22: 12 | B22: Thuja occidentalis Salland | C22: 120 | D22: 89 | E22: 79 | F22: 69 | G22: 59 | H22: 49
... A37: 27 | B37: Taxus media Densiformis | C37: 120 | D37: 99 | E37: 89 | F37: 79 | G37: 70 | H37: 65
A40: Для заказа необходимо перейти на следующий лист "Бланк заказа"

Sheet Бланк заказа
B1: Бланк заказа на весну 2026
B3: ООО "Элемента Грин" | E3: Внимание! Общая стоимость заказа зависит от его объема. Цены указаны на листе "Прайс". Объем заказа - совокупный показатель. Необходимо заполнить ячейки с серой заливкой. Далее произойдет автоматический расчёт.
B4: Калужская область, Дзержинский район, Угорское поселение, Питомник Элемента Грин (вблизи д.Дорохи)
B7: Алёна Славская
B8: 89208954545
B9: slavskaya@elementa.green
B13: Черенок | C13: готовность апрель-май (кассета Ель 96)
B15: № | C15: Наименование | D15: Цена за единицу, руб. | E15: Кол-во черенков (кратно 96), шт. | F15: Стоимость, руб. | G15: Комментарий
B16: 1 | C16: Thuja occidentalis Brabant | D16: =IF(E16=0,0,IF($E$44<1000,VLOOKUP(C16,Прайс!B:I,4,FALSE),IF($E$44<5000,VLOOKUP(C16,Прайс!B:I,5,FALSE),IF($E$44<10000,VLOOKUP(C16,Прайс!B:I,6,FALSE),IF($E$44<20000,VLOOKUP(C16,Прайс!B:I,7,FALSE),IF($E$44<50000,VLOOKUP(C16,Прайс!B:I,8,FALSE),IF($E$44<100000,VLOOKUP(C16,Прайс!B:I,9,FALSE),VLOOKUP(C16,Прайс!B:I,10,FALSE)))))))) -> 0 | F16: =E16*D16 -> 0
B17: 2 | C17: Thuja occidentalis Columna | D17: =IF(E17=0,0,IF($E$44<1000,VLOOKUP(C17,Прайс!B:I,4,FALSE),IF($E$44<5000,VLOOKUP(C17,Прайс!B:I,5,FALSE),IF($E$44<10000,VLOOKUP(C17,Прайс!B:I,6,FALSE),IF($E$44<20000,VLOOKUP(C17,Прайс!B:I,7,FALSE),IF($E$44<50000,VLOOKUP(C17,Прайс!B:I,8,FALSE),IF($E$44<100000,VLOOKUP(C17,Прайс!B:I,9,FALSE),VLOOKUP(C17,Прайс!B:I,10,FALSE)))))))) -> 0 | F17: =E17*D17 -> 0
B18: 3 | C18: Thuja occidentalis Ellwangeriana Aurea | D18: =IF(E18=0,0,IF($E$44<1000,VLOOKUP(C18,Прайс!B:I,4,FALSE),IF($E$44<5000,VLOOKUP(C18,Прайс!B:I,5,FALSE),IF($E$44<10000,VLOOKUP(C18,Прайс!B:I,6,FALSE),IF($E$44<20000,VLOOKUP(C18,Прайс!B:I,7,FALSE),IF($E$44<50000,VLOOKUP(C18,Прайс!B:I,8,FALSE),IF($E$44<100000,VLOOKUP(C18,Прайс!B:I,9,FALSE),VLOOKUP(C18,Прайс!B:I,10,FALSE)))))))) -> 0 | F18: =E18*D18 -> 0
B19: 4 | C19: Thuja occidentalis Frieslandia | D19: =IF(E19=0,0,IF($E$44<1000,VLOOKUP(C19,Прайс!B:I,4,FALSE),IF($E$44<5000,VLOOKUP(C19,Прайс!B:I,5,FALSE),IF($E$44<10000,VLOOKUP(C19,Прайс!B:I,6,FALSE),IF($E$44<20000,VLOOKUP(C19,Прайс!B:I,7,FALSE),IF($E$44<50000,VLOOKUP(C19,Прайс!B:I,8,FALSE),IF($E$44<100000,VLOOKUP(C19,Прайс!B:I,9,FALSE),VLOOKUP(C19,Прайс!B:I,10,FALSE)))))))) -> 0 | F19: =E19*D19 -> 0
B20: 5 | C20: Thuja occidentalis Globosa | D20: =IF(E20=0,0,IF($E$44<1000,VLOOKUP(C20,Прайс!B:I,4,FALSE),IF($E$44<5000,VLOOKUP(C20,Прайс!B:I,5,FALSE),IF($E$44<10000,VLOOKUP(C20,Прайс!B:I,6,FALSE),IF($E$44<20000,VLOOKUP(C20,Прайс!B:I,7,FALSE),IF($E$44<50000,VLOOKUP(C20,Прайс!B:I,8,FALSE),IF($E$44<100000,VLOOKUP(C20,Прайс!B:I,9,FALSE),VLOOKUP(C20,Прайс!B:I,10,FALSE)))))))) -> 0 | F20: =E20*D20 -> 0
B21: 6 | C21: Thuja occidentalis Globosa Aurea | D21: =IF(E21=0,0,IF($E$44<1000,VLOOKUP(C21,Прайс!B:I,4,FALSE),IF($E$44<5000,VLOOKUP(C21,Прайс!B:I,5,FALSE),IF($E$44<10000,VLOOKUP(C21,Прайс!B:I,6,FALSE),IF($E$44<20000,VLOOKUP(C21,Прайс!B:I,7,FALSE),IF($E$44<50000,VLOOKUP(C21,Прайс!B:I,8,FALSE),IF($E$44<100000,VLOOKUP(C21,Прайс!B:I,9,FALSE),VLOOKUP(C21,Прайс!B:I,10,FALSE)))))))) -> 0 | F21: =E21*D21 -> 0
B22: 7 | C22: Thuja occidentalis Golden Brabant | D22: =IF(E22=0,0,IF($E$44<1000,VLOOKUP(C22,Прайс!B:I,4,FALSE),IF($E$44<5000,VLOOKUP(C22,Прайс!B:I,5,FALSE),IF($E$44<10000,VLOOKUP(C22,Прайс!B:I,6,FALSE),IF($E$44<20000,VLOOKUP(C22,Прайс!B:I,7,FALSE),IF($E$44<50000,VLOOKUP(C22,Прайс!B:I,8,FALSE),IF($E$44<100000,VLOOKUP(C22,Прайс!B:I,9,FALSE),VLOOKUP(C22,Прайс!B:I,10,FALSE)))))))) -> 0 | F22: =E22*D22 -> 0
B23: 8 | C23: Thuja occidentalis Golden Globe | D23: =IF(E23=0,0,IF($E$44<1000,VLOOKUP(C23,Прайс!B:I,4,FALSE),IF($E$44<5000,VLOOKUP(C23,Прайс!B:I,5,FALSE),IF($E$44<10000,VLOOKUP(C23,Прайс!B:I,6,FALSE),IF($E$44<20000,VLOOKUP(C23,Прайс!B:I,7,FALSE),IF($E$44<50000,VLOOKUP(C23,Прайс!B:I,8,FALSE),IF($E$44<100000,VLOOKUP(C23,Прайс!B:I,9,FALSE),VLOOKUP(C23,Прайс!B:I,10,FALSE)))))))) -> 0 | F23: =E23*D23 -> 0
B24: 9 | C24: Thuja occidentalis Little Giant | D24: =IF(E24=0,0,IF($E$44<1000,VLOOKUP(C24,Прайс!B:I,4,FALSE),IF($E$44<5000,VLOOKUP(C24,Прайс!B:I,5,FALSE),IF($E$44<10000,VLOOKUP(C24,Прайс!B:I,6,FALSE),IF($E$44<20000,VLOOKUP(C24,Прайс!B:I,7,FALSE),IF($E$44<50000,VLOOKUP(C24,Прайс!B:I,8,FALSE),IF($E$44<100000,VLOOKUP(C24,Прайс!B:I,9,FALSE),VLOOKUP(C24,Прайс!B:I,10,FALSE)))))))) -> 0 | F24: =E24*D24 -> 0
B25: 10 | C25: Thuja occidentalis Mr Bowling Ball | D25: =IF(E25=0,0,IF($E$44<1000,VLOOKUP(C25,Прайс!B:I,4,FALSE),IF($E$44<5000,VLOOKUP(C25,Прайс!B:I,5,FALSE),IF($E$44<10000,VLOOKUP(C25,Прайс!B:I,6,FALSE),IF($E$44<20000,VLOOKUP(C25,Прайс!B:I,7,FALSE),IF($E$44<50000,VLOOKUP(C25,Прайс!B:I,8,FALSE),IF($E$44<100000,VLOOKUP(C25,Прайс!B:I,9,FALSE),VLOOKUP(C25,Прайс!B:I,10,FALSE)))))))) -> 0 | F25: =E25*D25 -> 0
B26: 11 | C26: Thuja occidentalis Pyramidalis Compacta | D26: =IF(E26=0,0,IF($E$44<1000,VLOOKUP(C26,Прайс!B:I,4,FALSE),IF($E$44<5000,VLOOKUP(C26,Прайс!B:I,5,FALSE),IF($E$44<10000,VLOOKUP(C26,Прайс!B:I,6,FALSE),IF($E$44<20000,VLOOKUP(C26,Прайс!B:I,7,FALSE),IF($E$44<50000,VLOOKUP(C26,Прайс!B:I,8,FALSE),IF($E$44<100000,VLOOKUP(C26,Прайс!B:I,9,FALSE),VLOOKUP(C26,Прайс!B:I,10,FALSE)))))))) -> 0 | F26: =E26*D26 -> 0
B27: 12 | C27: Thuja occidentalis Salland | D27: =IF(E27=0,0,IF($E$44<1000,VLOOKUP(C27,Прайс!B:I,4,FALSE),IF($E$44<5000,VLOOKUP(C27,Прайс!B:I,5,FALSE),IF($E$44<10000,VLOOKUP(C27,Прайс!B:I,6,FALSE),IF($E$44<20000,VLOOKUP(C27,Прайс!B:I,7,FALSE),IF($E$44<50000,VLOOKUP(C27,Прайс!B:I,8,FALSE),IF($E$44<100000,VLOOKUP(C27,Прайс!B:I,9,FALSE),VLOOKUP(C27,Прайс!B:I,10,FALSE)))))))) -> 0 | F27: =E27*D27 -> 0
... B42: 27 | C42: Taxus media Densiformis | D42: =IF(E42=0,0,IF($E$44<1000,VLOOKUP(C42,Прайс!B:I,4,FALSE),IF($E$44<5000,VLOOKUP(C42,Прайс!B:I,5,FALSE),IF($E$44<10000,VLOOKUP(C42,Прайс!B:I,6,FALSE),IF($E$44<20000,VLOOKUP(C42,Прайс!B:I,7,FALSE),IF($E$44<50000,VLOOKUP(C42,Прайс!B:I,8,FALSE),IF($E$44<100000,VLOOKUP(C42,Прайс!B:I,9,FALSE),VLOOKUP(C42,Прайс!B:I,10,FALSE)))))))) -> 0 | F42: =E42*D42 -> 0
B43: Упаковка (коробка - 5-ти слойный картон), шт. | D43: 100 | E43: =ROUNDDOWN(E44/96/3,0) -> 0 | F43: =E43*D43 -> 0
B44: Итого | E44: =SUM(E16:E42) -> 0 | F44: =SUM(F16:F42) -> 0
E46: Итого по заказу | F46: =F43+F44 -> 0
B50: Иформация о заказчике
B52: ФИО
B53: Наименование организации
B54: Контактный телефон
B55: Электронная почта
B56: Адрес доставки
B57: Комментарий
