Workbook
Name base_okrug_ru: [2]Title!$B$31
Name base_org_ru: [2]Title!$B$9
Name base_repdate: [2]Title!$D$18
Name ClDate: [4]Info!$E$6
Name CompName: [4]Info!$F$2
Name Excel_BuiltIn__FilterDatabase_7: [5]реестр!#REF!
Name Excel_BuiltIn__FilterDatabase_7_1: [5]реестр!#REF!
Name ForeignUnit: [6]Info!$E$39
Name Land: #REF!
Name lk: [7]Title!$B$9
Name NewItems: [8]mapping!$A$4:$A$118
Name UQWLN: #REF!
Name аа: [5]реестр!#REF!
Name Банки: '[9]СПР '!$A$50:$A$66
Name в: [5]реестр!#REF!
Name вввввввввввввввв: [5]реестр!#REF!
Name Группа: '[9]СПР '!$C$9:$C$40
Name доллар: #REF!
Name евро: '[11]Техника прогноз'!$D$4
Name Культура: '[12]справочник культур'!$B$3:$B$430
Name Месяц: '[9]СПР '!$A$70:$A$102
Name ммм: #REF!
Name Организация: '[9]СПР '!$A$9:$A$41
Name Предмет: #REF!
Name рубль: '[11]Техника прогноз'!$D$3
Name Себестоимость: [10]ПланПродаж!$K$4:$K$303
Name сокр: '[9]СПР '!$E$9:$E$40
Name списко: '[13]СПР '!$E$9:$E$40
Name список: '[13]СПР '!$E$9:$E$40
Name СрД: '[14]Исходные данные'!$D$6
Name СуммаПродажи: [10]ПланПродаж!$M$4:$M$303
Name уауца: #REF!
Name ЦФО_Закупок: [10]Закупки!$C$2
Name ысар: [15]Info!$E$39
Name я: [16]Info!$E$6

Sheet Параметры качества кормов
D6: Наименование показателя | E6: Сенаж бобовый | F6: Силос кукурузный | G6: Корнаж | H6: Сенаж злаковый
D8: Сухое вещество (СВ), % | E8: 35-45 | F8: 32-36 | G8: 52-58 | H8: 30-45
D9: Длина нарезки частиц, см | E9: 1,7-2,5 | F9: 0,8-1,7 | G9: 0,6-1,0 | H9: 1,5-3,0
D10: Сырая зола (СЗ), % СВ | E10: 8,0-10,0 | F10: 3,5-5,0 | G10: 3,5-5,0 | H10: 6,0-9,0
D11: Включая загрязнения почвой, % СВ | E11: ≤2,0 | F11: ≤1,5 | G11: ≤1,0 | H11: ≤2,0
D12: pH, ед. pH | E12: 3,8-4,5 | F12: 3,8-4,0 | G12: 3,8-4,0 | H12: 3,8-4,5
D13: Молочная кислота, % СВ | E13: 3,0-9,0 | F13: 4,0-6,0 | G13: 3,0-6,0 | H13: 3,0-9,0
D14: Уксусная кислота, % СВ | E14: 1,0-2,0 | F14: 1,5-2,0 | G14: 1,0-2,0 | H14: 1,0-2,0
D15: Масляная кислота, % СВ | E15: <1 | F15: 0 | G15: 0 | H15: <1
D16: Переваримость органического в-ва, % СВ | E16: 65-78 | F16: 70-78 | G16: 75-85 | H16: 60,0-78,0
D17: Чистая энергия лактации (ЧЭЛ), МДж | E17: 5,2-6,0 | F17: 6,5-7,4 | G17: 7,0-7,5 | H17: 5,5-6,0
D18: Обменная энергия (ОЭ),МДж | E18: 8,5-9,5 | F18: 10,3-11,5 | G18: 11,2-11,8 | H18: 9,0-10,0
D19: Выход молока с 1 т СВ, кг | E19: >1450 | F19: >1590 | G19: — | H19: >1450
D20: НДК, % СВ | E20: 35,0-40,0 | F20: 32,0-38,0 | G20: 20,0-23,0 | H20: 37,0-45,0
D21: Полная переваримость НДК (TTNDFD), % | E21: >45 | F21: >48 | G21: >42 | H21: > 50
D22: Сырой протеин (СП), % СВ | E22: 18,0-23,0 | F22: 8,0-9,0 | G22: 6,0-8,0 | H22: 17,0-19,0
D23: Содержание аммиака (NH₃), % СВ | E23: ≤7 | F23: - | G23: - | H23: ≤8
D24: КДНСП, % СВ | E24: <9 | F24: <9 | G24: <9 | H24: <9
D25: Крахмал, % СВ | E25: ― | F25: 25,0-40,0 | G25: 50,0-60,0 | H25: ―
D26: Переваримость крахмала in situ, 7 ч | E26: ― | F26: > 85 | G26: > 85 | H26: ―
D27: Сырой жир (СЖ), % СВ | E27: 2,0-4,0 | F27: 2,5-3,5 | G27: 2,0-4,0 | H27: 2,0-4,0
... D29: Нитраты, мг/кг СВ | E29: <1000 | F29: <1000 | G29: <1000 | H29: <1000
D30: Этанол, % СВ | E30: <3
D31: Температура д 4-х недель после закрытия, °С | E31: Максимум 30
D32: Температура во время хранения, °С | E32: 16-18
D33: Повторное нагревание: повышение свыше температуры окружающей среды, °С | E33: Максимум 10
D34: Аэробная стабильность, дней | E34: Более 5
D35: Максимальное время промежуточного хранения после выемки из траншеи, часов | E35: Менее 6

Sheet Плановый рацион
A1: Средний плановый рацион
A2: Количество голов по группам | B2: % КСВ | C2: Молочный скот
C3: Фуражные коровы | U3: Выращивание молодняка
C4: 100 | E4: 650 | G4: 798 | I4: 150 | K4: 196 | M4: 106 | S4: =SUM(C4:R4) -> 2000 | U4: 164 | W4: 246 | Y4: 246 | AA4: 334 | AC4: 492 | AE4: 518 | AG4: =SUM(U4:AF4) -> 2000
A5: Групп | C5: Д0 | E5: Д1 | G5: Д2 | I5: Д3 | K5: Сух1 | M5: Сух2 | S5: Поголовье ФК | U5: 0-2 | W5: 3||5 | Y5: 6||8 | AA5: 9||12 | AC5: 13||18 | AE5: Нетели | AG5: Молодняк
A6: Компонент | C6: кг СВ/гол | D6: СВ, кг/сут | E6: кг СВ/гол | F6: СВ, кг/сут | G6: кг СВ/гол | H6: СВ, кг/сут | I6: кг СВ/гол | J6: СВ, кг/сут | K6: кг СВ/гол | L6: СВ, кг/сут | M6: кг СВ/гол | N6: СВ, кг/сут | O6: кг СВ/гол | P6: СВ, кг/сут | Q6: кг СВ/гол | R6: СВ, кг/сут | S6: Итого СВ, кг в сутки | T6: Ø кг/день на ФК | U6: кг СВ/гол | V6: СВ, кг/сут | W6: кг СВ/гол | X6: СВ, кг/сут | Y6: кг СВ/гол | Z6: СВ, кг/сут | AA6: кг СВ/гол | AB6: СВ, кг/сут | AC6: кг СВ/гол | AD6: СВ, кг/сут | AE6: кг СВ/гол | AF6: СВ, кг/сут | AG6: Итого СВ, кг в сутки | AH6: Ø кг/день на молодняк
A8: Силос кукурузный | B8: 0.35 | C8: 7.8 | D8: =C8*$C$4 -> 780 | E8: 5.6 | F8: =E8*$E$4 -> 3640 | G8: 5 | H8: =G8*$G$4 -> 3990 | I8: 4 | J8: =I8*$I$4 -> 600 | K8: 2 | L8: =K8*$K$4 -> 392 | M8: 7.5 | N8: =M8*$M$4 -> 795 | P8: =O8*$O$4 -> 0 | R8: =Q8*$Q$4 -> 0 | S8: =N8+L8+J8+H8+F8+D8+P8+R8 -> 10197 | T8: =IF($S$4=0,0,S8/$S$4) -> 5.0985 | V8: =U8*$U$4 -> 0 | W8: 1 | X8: =W8*$W$4 -> 246 | Y8: 2 | Z8: =Y8*$Y$4 -> 492 | AA8: 2 | AB8: =AA8*$AA$4 -> 668 | AC8: 2 | AD8: =AC8*$AC$4 -> 984 | AF8: =AE8*$AE$4 -> 0 | AG8: =AF8+Z8+X8+V8+AB8+AD8 -> 2390 | AH8: =IF($AG$4=0,0,AG8/$AG$4) -> 1.195
A9: Корнаж | B9: 0.55 | D9: =C9*$C$4 -> 0 | E9: 4.3 | F9: =E9*$E$4 -> 2795 | G9: 4 | H9: =G9*$G$4 -> 3192 | I9: 1.5 | J9: =I9*$I$4 -> 225 | L9: =K9*$K$4 -> 0 | M9: 1.4 | N9: =M9*$M$4 -> 148.4 | P9: =O9*$O$4 -> 0 | R9: =Q9*$Q$4 -> 0 | S9: =N9+L9+J9+H9+F9+D9+P9+R9 -> 6360.4 | T9: =IF($S$4=0,0,S9/$S$4) -> 3.1802 | V9: =U9*$U$4 -> 0 | X9: =W9*$W$4 -> 0 | Z9: =Y9*$Y$4 -> 0 | AA9: 1.5 | AB9: =AA9*$AA$4 -> 501 | AC9: 1 | AD9: =AC9*$AC$4 -> 492 | AE9: 1 | AF9: =AE9*$AE$4 -> 518 | AG9: =AF9+Z9+X9+V9+AB9+AD9 -> 1511 | AH9: =IF($AG$4=0,0,AG9/$AG$4) -> 0.7555
A10: Сенаж люцерна | B10: 0.38 | C10: 1 | D10: =C10*$C$4 -> 100 | E10: 2 | F10: =E10*$E$4 -> 1300 | G10: 1.8 | H10: =G10*$G$4 -> 1436.4 | I10: 3.5 | J10: =I10*$I$4 -> 525 | L10: =K10*$K$4 -> 0 | N10: =M10*$M$4 -> 0 | P10: =O10*$O$4 -> 0 | R10: =Q10*$Q$4 -> 0 | S10: =N10+L10+J10+H10+F10+D10+P10+R10 -> 3361.4 | T10: =IF($S$4=0,0,S10/$S$4) -> 1.6807 | V10: =U10*$U$4 -> 0 | W10: 1 | X10: =W10*$W$4 -> 246 | Y10: 2 | Z10: =Y10*$Y$4 -> 492 | AA10: 2.5 | AB10: =AA10*$AA$4 -> 835 | AC10: 2.5 | AD10: =AC10*$AC$4 -> 1230 | AE10: 3 | AF10: =AE10*$AE$4 -> 1554 | AG10: =AF10+Z10+X10+V10+AB10+AD10 -> 4357 | AH10: =IF($AG$4=0,0,AG10/$AG$4) -> 2.1785
A11: Сенаж однолетка | B11: 0.32 | E11: 2 | G11: 2.1 | H11: =G11*$G$4 -> 1675.8 | I11: 3.5 | J11: =I11*$I$4 -> 525 | K11: 7 | L11: =K11*$K$4 -> 1372 | N11: =M11*$M$4 -> 0 | P11: =O11*$O$4 -> 0 | R11: =Q11*$Q$4 -> 0 | S11: =N11+L11+J11+H11+F11+D11+P11+R11 -> 3572.8 | T11: =IF($S$4=0,0,S11/$S$4) -> 1.7864 | V11: =U11*$U$4 -> 0 | X11: =W11*$W$4 -> 0 | Z11: =Y11*$Y$4 -> 0 | AB11: =AA11*$AA$4 -> 0 | AC11: 3 | AD11: =AC11*$AC$4 -> 1476 | AE11: 5.5 | AF11: =AE11*$AE$4 -> 2849 | AG11: =AF11+Z11+X11+V11+AB11+AD11 -> 4325 | AH11: =IF($AG$4=0,0,AG11/$AG$4) -> 2.1625
B12: 0.35 | D12: =C12*$C$4 -> 0 | F12: =E12*$E$4 -> 0 | H12: =G12*$G$4 -> 0 | J12: =I12*$I$4 -> 0 | L12: =K12*$K$4 -> 0 | N12: =M12*$M$4 -> 0 | P12: =O12*$O$4 -> 0 | R12: =Q12*$Q$4 -> 0 | S12: =N12+L12+J12+H12+F12+D12+P12+R12 -> 0 | T12: =IF($S$4=0,0,S12/$S$4) -> 0 | V12: =U12*$U$4 -> 0 | X12: =W12*$W$4 -> 0 | Z12: =Y12*$Y$4 -> 0 | AB12: =AA12*$AA$4 -> 0 | AD12: =AC12*$AC$4 -> 0 | AF12: =AE12*$AE$4 -> 0 | AG12: =AF12+Z12+X12+V12+AB12+AD12 -> 0 | AH12: =IF($AG$4=0,0,AG12/$AG$4) -> 0
A13: Сено | B13: 0.9 | D13: =C13*$C$4 -> 0 | F13: =E13*$E$4 -> 0 | H13: =G13*$G$4 -> 0 | J13: =I13*$I$4 -> 0 | L13: =K13*$K$4 -> 0 | N13: =M13*$M$4 -> 0 | P13: =O13*$O$4 -> 0 | R13: =Q13*$Q$4 -> 0 | S13: =N13+L13+J13+H13+F13+D13+P13+R13 -> 0 | T13: =IF($S$4=0,0,S13/$S$4) -> 0 | V13: =U13*$U$4 -> 0 | X13: =W13*$W$4 -> 0 | Z13: =Y13*$Y$4 -> 0 | AB13: =AA13*$AA$4 -> 0 | AD13: =AC13*$AC$4 -> 0 | AF13: =AE13*$AE$4 -> 0 | AG13: =AF13+Z13+X13+V13+AB13+AD13 -> 0 | AH13: =IF($AG$4=0,0,AG13/$AG$4) -> 0
A14: Солома | B14: 0.9 | C14: 0.5 | D14: =C14*$C$4 -> 50 | F14: =E14*$E$4 -> 0 | H14: =G14*$G$4 -> 0 | J14: =I14*$I$4 -> 0 | K14: 1.2 | L14: =K14*$K$4 -> 235.2 | M14: 0.3 | N14: =M14*$M$4 -> 31.8 | P14: =O14*$O$4 -> 0 | R14: =Q14*$Q$4 -> 0 | S14: =N14+L14+J14+H14+F14+D14+P14+R14 -> 317 | T14: =IF($S$4=0,0,S14/$S$4) -> 0.1585 | V14: =U14*$U$4 -> 0 | X14: =W14*$W$4 -> 0 | Z14: =Y14*$Y$4 -> 0 | AB14: =AA14*$AA$4 -> 0 | AC14: 0.8 | AD14: =AC14*$AC$4 -> 393.6 | AE14: 1 | AF14: =AE14*$AE$4 -> 518 | AG14: =AF14+Z14+X14+V14+AB14+AD14 -> 911.6 | AH14: =IF($AG$4=0,0,AG14/$AG$4) -> 0.4558
A15: Комбикорм | B15: 0.887 | C15: 9.5 | D15: =C15*$C$4 -> 950 | E15: 13.4 | F15: =E15*$E$4 -> 8710 | G15: 12.9 | H15: =G15*$G$4 -> 10294.2 | I15: 7.5 | J15: =I15*$I$4 -> 1125 | K15: 2.74 | L15: =K15*$K$4 -> 537.04 | M15: 3.9 | N15: =M15*$M$4 -> 413.4 | P15: =O15*$O$4 -> 0 | R15: =Q15*$Q$4 -> 0 | S15: =N15+L15+J15+H15+F15+D15+P15+R15 -> 22029.64 | T15: =IF($S$4=0,0,S15/$S$4) -> 11.01482 | V15: =U15*$U$4 -> 0 | W15: 3 | X15: =W15*$W$4 -> 738 | Y15: 3 | Z15: =Y15*$Y$4 -> 738 | AA15: 3 | AB15: =AA15*$AA$4 -> 1002 | AC15: 1.5 | AD15: =AC15*$AC$4 -> 738 | AE15: 1.5 | AF15: =AE15*$AE$4 -> 777 | AG15: =AF15+Z15+X15+V15+AB15+AD15 -> 3993 | AH15: =IF($AG$4=0,0,AG15/$AG$4) -> 1.9965
A16: КК первотелки | B16: 0.9 | D16: =C16*$C$4 -> 0 | F16: =E16*$E$4 -> 0 | H16: =G16*$G$4 -> 0 | J16: =I16*$I$4 -> 0 | L16: =K16*$K$4 -> 0 | N16: =M16*$M$4 -> 0 | P16: =O16*$O$4 -> 0 | R16: =Q16*$Q$4 -> 0 | S16: =N16+L16+J16+H16+F16+D16+P16+R16 -> 0 | T16: =IF($S$4=0,0,S16/$S$4) -> 0 | V16: =U16*$U$4 -> 0 | X16: =W16*$W$4 -> 0 | Z16: =Y16*$Y$4 -> 0 | AB16: =AA16*$AA$4 -> 0 | AD16: =AC16*$AC$4 -> 0 | AF16: =AE16*$AE$4 -> 0 | AG16: =AF16+Z16+X16+V16+AB16+AD16 -> 0 | AH16: =IF($AG$4=0,0,AG16/$AG$4) -> 0
A17: КК_произ | B17: 0.887 | D17: =C17*$C$4 -> 0 | F17: =E17*$E$4 -> 0 | H17: =G17*$G$4 -> 0 | J17: =I17*$I$4 -> 0 | L17: =K17*$K$4 -> 0 | N17: =M17*$M$4 -> 0 | P17: =O17*$O$4 -> 0 | R17: =Q17*$Q$4 -> 0 | S17: =N17+L17+J17+H17+F17+D17+P17+R17 -> 0 | T17: =IF($S$4=0,0,S17/$S$4) -> 0 | V17: =U17*$U$4 -> 0 | X17: =W17*$W$4 -> 0 | Z17: =Y17*$Y$4 -> 0 | AB17: =AA17*$AA$4 -> 0 | AD17: =AC17*$AC$4 -> 0 | AF17: =AE17*$AE$4 -> 0 | AG17: =AF17+Z17+X17+V17+AB17+AD17 -> 0 | AH17: =IF($AG$4=0,0,AG17/$AG$4) -> 0
A18: КК_мол_6_20м | B18: 0.886 | D18: =C18*$C$4 -> 0 | F18: =E18*$E$4 -> 0 | H18: =G18*$G$4 -> 0 | J18: =I18*$I$4 -> 0 | L18: =K18*$K$4 -> 0 | N18: =M18*$M$4 -> 0 | P18: =O18*$O$4 -> 0 | R18: =Q18*$Q$4 -> 0 | S18: =N18+L18+J18+H18+F18+D18+P18+R18 -> 0 | T18: =IF($S$4=0,0,S18/$S$4) -> 0 | V18: =U18*$U$4 -> 0 | X18: =W18*$W$4 -> 0 | Z18: =Y18*$Y$4 -> 0 | AB18: =AA18*$AA$4 -> 0 | AD18: =AC18*$AC$4 -> 0 | AF18: =AE18*$AE$4 -> 0 | AG18: =AF18+Z18+X18+V18+AB18+AD18 -> 0 | AH18: =IF($AG$4=0,0,AG18/$AG$4) -> 0
A19: КК_поздний_сух | B19: 0.92 | D19: =C19*$C$4 -> 0 | F19: =E19*$E$4 -> 0 | H19: =G19*$G$4 -> 0 | J19: =I19*$I$4 -> 0 | L19: =K19*$K$4 -> 0 | N19: =M19*$M$4 -> 0 | P19: =O19*$O$4 -> 0 | R19: =Q19*$Q$4 -> 0 | S19: =N19+L19+J19+H19+F19+D19+P19+R19 -> 0 | T19: =IF($S$4=0,0,S19/$S$4) -> 0 | V19: =U19*$U$4 -> 0 | X19: =W19*$W$4 -> 0 | Z19: =Y19*$Y$4 -> 0 | AB19: =AA19*$AA$4 -> 0 | AD19: =AC19*$AC$4 -> 0 | AF19: =AE19*$AE$4 -> 0 | AG19: =AF19+Z19+X19+V19+AB19+AD19 -> 0 | AH19: =IF($AG$4=0,0,AG19/$AG$4) -> 0
A20: КК_мол_3_6м | B20: 0.886 | D20: =C20*$C$4 -> 0 | F20: =E20*$E$4 -> 0 | H20: =G20*$G$4 -> 0 | J20: =I20*$I$4 -> 0 | L20: =K20*$K$4 -> 0 | N20: =M20*$M$4 -> 0 | P20: =O20*$O$4 -> 0 | R20: =Q20*$Q$4 -> 0 | S20: =N20+L20+J20+H20+F20+D20+P20+R20 -> 0 | T20: =IF($S$4=0,0,S20/$S$4) -> 0 | V20: =U20*$U$4 -> 0 | X20: =W20*$W$4 -> 0 | Z20: =Y20*$Y$4 -> 0 | AB20: =AA20*$AA$4 -> 0 | AD20: =AC20*$AC$4 -> 0 | AF20: =AE20*$AE$4 -> 0 | AG20: =AF20+Z20+X20+V20+AB20+AD20 -> 0 | AH20: =IF($AG$4=0,0,AG20/$AG$4) -> 0
A21: КК_ранний_сух | B21: 0.886 | D21: =C21*$C$4 -> 0 | F21: =E21*$E$4 -> 0 | H21: =G21*$G$4 -> 0 | J21: =I21*$I$4 -> 0 | L21: =K21*$K$4 -> 0 | N21: =M21*$M$4 -> 0 | P21: =O21*$O$4 -> 0 | R21: =Q21*$Q$4 -> 0 | S21: =N21+L21+J21+H21+F21+D21+P21+R21 -> 0 | T21: =IF($S$4=0,0,S21/$S$4) -> 0 | V21: =U21*$U$4 -> 0 | X21: =W21*$W$4 -> 0 | Z21: =Y21*$Y$4 -> 0 | AB21: =AA21*$AA$4 -> 0 | AD21: =AC21*$AC$4 -> 0 | AF21: =AE21*$AE$4 -> 0 | AG21: =AF21+Z21+X21+V21+AB21+AD21 -> 0 | AH21: =IF($AG$4=0,0,AG21/$AG$4) -> 0
B22: 0.88 | D22: =C22*$C$4 -> 0 | F22: =E22*$E$4 -> 0 | H22: =G22*$G$4 -> 0 | J22: =I22*$I$4 -> 0 | L22: =K22*$K$4 -> 0 | N22: =M22*$M$4 -> 0 | P22: =O22*$O$4 -> 0 | R22: =Q22*$Q$4 -> 0 | S22: =N22+L22+J22+H22+F22+D22+P22+R22 -> 0 | T22: =IF($S$4=0,0,S22/$S$4) -> 0 | V22: =U22*$U$4 -> 0 | X22: =W22*$W$4 -> 0 | Z22: =Y22*$Y$4 -> 0 | AB22: =AA22*$AA$4 -> 0 | AD22: =AC22*$AC$4 -> 0 | AF22: =AE22*$AE$4 -> 0 | AG22: =AF22+Z22+X22+V22+AB22+AD22 -> 0 | AH22: =IF($AG$4=0,0,AG22/$AG$4) -> 0
B23: 0.01 | D23: =C23*$C$4 -> 0 | F23: =E23*$E$4 -> 0 | H23: =G23*$G$4 -> 0 | J23: =I23*$I$4 -> 0 | L23: =K23*$K$4 -> 0 | N23: =M23*$M$4 -> 0 | P23: =O23*$O$4 -> 0 | R23: =Q23*$Q$4 -> 0 | S23: =N23+L23+J23+H23+F23+D23+P23+R23 -> 0 | T23: =IF($S$4=0,0,S23/$S$4) -> 0 | V23: =U23*$U$4 -> 0 | X23: =W23*$W$4 -> 0 | Z23: =Y23*$Y$4 -> 0 | AB23: =AA23*$AA$4 -> 0 | AD23: =AC23*$AC$4 -> 0 | AF23: =AE23*$AE$4 -> 0 | AG23: =AF23+Z23+X23+V23+AB23+AD23 -> 0 | AH23: =IF($AG$4=0,0,AG23/$AG$4) -> 0
B24: 0.01 | D24: =C24*$C$4 -> 0 | F24: =E24*$E$4 -> 0 | H24: =G24*$G$4 -> 0 | J24: =I24*$I$4 -> 0 | L24: =K24*$K$4 -> 0 | N24: =M24*$M$4 -> 0 | P24: =O24*$O$4 -> 0 | R24: =Q24*$Q$4 -> 0 | S24: =N24+L24+J24+H24+F24+D24+P24+R24 -> 0 | T24: =IF($S$4=0,0,S24/$S$4) -> 0 | V24: =U24*$U$4 -> 0 | X24: =W24*$W$4 -> 0 | Z24: =Y24*$Y$4 -> 0 | AB24: =AA24*$AA$4 -> 0 | AD24: =AC24*$AC$4 -> 0 | AF24: =AE24*$AE$4 -> 0 | AG24: =AF24+Z24+X24+V24+AB24+AD24 -> 0 | AH24: =IF($AG$4=0,0,AG24/$AG$4) -> 0
A25: Кукуруза | B25: 0.88 | D25: =C25*$C$4 -> 0 | F25: =E25*$E$4 -> 0 | H25: =G25*$G$4 -> 0 | J25: =I25*$I$4 -> 0 | L25: =K25*$K$4 -> 0 | N25: =M25*$M$4 -> 0 | P25: =O25*$O$4 -> 0 | R25: =Q25*$Q$4 -> 0 | S25: =N25+L25+J25+H25+F25+D25+P25+R25 -> 0 | T25: =IF($S$4=0,0,S25/$S$4) -> 0 | V25: =U25*$U$4 -> 0 | X25: =W25*$W$4 -> 0 | Z25: =Y25*$Y$4 -> 0 | AB25: =AA25*$AA$4 -> 0 | AD25: =AC25*$AC$4 -> 0 | AF25: =AE25*$AE$4 -> 0 | AG25: =AF25+Z25+X25+V25+AB25+AD25 -> 0 | AH25: =IF($AG$4=0,0,AG25/$AG$4) -> 0
A26: Ячмень | B26: 0.89 | D26: =C26*$C$4 -> 0 | F26: =E26*$E$4 -> 0 | H26: =G26*$G$4 -> 0 | J26: =I26*$I$4 -> 0 | L26: =K26*$K$4 -> 0 | N26: =M26*$M$4 -> 0 | P26: =O26*$O$4 -> 0 | R26: =Q26*$Q$4 -> 0 | S26: =N26+L26+J26+H26+F26+D26+P26+R26 -> 0 | T26: =IF($S$4=0,0,S26/$S$4) -> 0 | V26: =U26*$U$4 -> 0 | X26: =W26*$W$4 -> 0 | Z26: =Y26*$Y$4 -> 0 | AB26: =AA26*$AA$4 -> 0 | AD26: =AC26*$AC$4 -> 0 | AF26: =AE26*$AE$4 -> 0 | AG26: =AF26+Z26+X26+V26+AB26+AD26 -> 0 | AH26: =IF($AG$4=0,0,AG26/$AG$4) -> 0
A27: Пшеница | B27: 0.87 | D27: =C27*$C$4 -> 0 | F27: =E27*$E$4 -> 0 | H27: =G27*$G$4 -> 0 | J27: =I27*$I$4 -> 0 | L27: =K27*$K$4 -> 0 | N27: =M27*$M$4 -> 0 | P27: =O27*$O$4 -> 0 | R27: =Q27*$Q$4 -> 0 | S27: =N27+L27+J27+H27+F27+D27+P27+R27 -> 0 | T27: =IF($S$4=0,0,S27/$S$4) -> 0 | V27: =U27*$U$4 -> 0 | X27: =W27*$W$4 -> 0 | Z27: =Y27*$Y$4 -> 0 | AB27: =AA27*$AA$4 -> 0 | AD27: =AC27*$AC$4 -> 0 | AF27: =AE27*$AE$4 -> 0 | AG27: =AF27+Z27+X27+V27+AB27+AD27 -> 0 | AH27: =IF($AG$4=0,0,AG27/$AG$4) -> 0
A28: Овес | B28: 0.89 | D28: =C28*$C$4 -> 0 | F28: =E28*$E$4 -> 0 | H28: =G28*$G$4 -> 0 | J28: =I28*$I$4 -> 0 | L28: =K28*$K$4 -> 0 | N28: =M28*$M$4 -> 0 | P28: =O28*$O$4 -> 0 | R28: =Q28*$Q$4 -> 0 | S28: =N28+L28+J28+H28+F28+D28+P28+R28 -> 0 | T28: =IF($S$4=0,0,S28/$S$4) -> 0 | V28: =U28*$U$4 -> 0 | X28: =W28*$W$4 -> 0 | Z28: =Y28*$Y$4 -> 0 | AB28: =AA28*$AA$4 -> 0 | AD28: =AC28*$AC$4 -> 0 | AF28: =AE28*$AE$4 -> 0 | AG28: =AF28+Z28+X28+V28+AB28+AD28 -> 0 | AH28: =IF($AG$4=0,0,AG28/$AG$4) -> 0
A29: Кукуруза плющеная | B29: 0.372 | D29: =C29*$C$4 -> 0 | F29: =E29*$E$4 -> 0 | H29: =G29*$G$4 -> 0 | J29: =I29*$I$4 -> 0 | L29: =K29*$K$4 -> 0 | N29: =M29*$M$4 -> 0 | P29: =O29*$O$4 -> 0 | R29: =Q29*$Q$4 -> 0 | S29: =N29+L29+J29+H29+F29+D29+P29+R29 -> 0 | T29: =IF($S$4=0,0,S29/$S$4) -> 0 | V29: =U29*$U$4 -> 0 | X29: =W29*$W$4 -> 0 | Z29: =Y29*$Y$4 -> 0 | AB29: =AA29*$AA$4 -> 0 | AD29: =AC29*$AC$4 -> 0 | AF29: =AE29*$AE$4 -> 0 | AG29: =AF29+Z29+X29+V29+AB29+AD29 -> 0 | AH29: =IF($AG$4=0,0,AG29/$AG$4) -> 0
A30: Корнаж | B30: 0.372 | D30: =C30*$C$4 -> 0 | F30: =E30*$E$4 -> 0 | H30: =G30*$G$4 -> 0 | J30: =I30*$I$4 -> 0 | L30: =K30*$K$4 -> 0 | N30: =M30*$M$4 -> 0 | P30: =O30*$O$4 -> 0 | R30: =Q30*$Q$4 -> 0 | S30: =N30+L30+J30+H30+F30+D30+P30+R30 -> 0 | T30: =IF($S$4=0,0,S30/$S$4) -> 0 | V30: =U30*$U$4 -> 0 | X30: =W30*$W$4 -> 0 | Z30: =Y30*$Y$4 -> 0 | AB30: =AA30*$AA$4 -> 0 | AD30: =AC30*$AC$4 -> 0 | AF30: =AE30*$AE$4 -> 0 | AG30: =AF30+Z30+X30+V30+AB30+AD30 -> 0 | AH30: =IF($AG$4=0,0,AG30/$AG$4) -> 0
A31: Отруби | B31: 0.87 | D31: =C31*$C$4 -> 0 | F31: =E31*$E$4 -> 0 | H31: =G31*$G$4 -> 0 | J31: =I31*$I$4 -> 0 | L31: =K31*$K$4 -> 0 | N31: =M31*$M$4 -> 0 | P31: =O31*$O$4 -> 0 | R31: =Q31*$Q$4 -> 0 | S31: =N31+L31+J31+H31+F31+D31+P31+R31 -> 0 | T31: =IF($S$4=0,0,S31/$S$4) -> 0 | V31: =U31*$U$4 -> 0 | X31: =W31*$W$4 -> 0 | Z31: =Y31*$Y$4 -> 0 | AB31: =AA31*$AA$4 -> 0 | AD31: =AC31*$AC$4 -> 0 | AF31: =AE31*$AE$4 -> 0 | AG31: =AF31+Z31+X31+V31+AB31+AD31 -> 0 | AH31: =IF($AG$4=0,0,AG31/$AG$4) -> 0
A32: Зерновой корм 1 | B32: 0.01 | D32: =C32*$C$4 -> 0 | F32: =E32*$E$4 -> 0 | H32: =G32*$G$4 -> 0 | J32: =I32*$I$4 -> 0 | L32: =K32*$K$4 -> 0 | N32: =M32*$M$4 -> 0 | P32: =O32*$O$4 -> 0 | R32: =Q32*$Q$4 -> 0 | S32: =N32+L32+J32+H32+F32+D32+P32+R32 -> 0 | T32: =IF($S$4=0,0,S32/$S$4) -> 0 | V32: =U32*$U$4 -> 0 | X32: =W32*$W$4 -> 0 | Z32: =Y32*$Y$4 -> 0 | AB32: =AA32*$AA$4 -> 0 | AD32: =AC32*$AC$4 -> 0 | AF32: =AE32*$AE$4 -> 0 | AG32: =AF32+Z32+X32+V32+AB32+AD32 -> 0 | AH32: =IF($AG$4=0,0,AG32/$AG$4) -> 0
A33: Соль | B33: 0.99 | D33: =C33*$C$4 -> 0 | F33: =E33*$E$4 -> 0 | H33: =G33*$G$4 -> 0 | J33: =I33*$I$4 -> 0 | L33: =K33*$K$4 -> 0 | N33: =M33*$M$4 -> 0 | P33: =O33*$O$4 -> 0 | R33: =Q33*$Q$4 -> 0 | S33: =N33+L33+J33+H33+F33+D33+P33+R33 -> 0 | T33: =IF($S$4=0,0,S33/$S$4) -> 0 | V33: =U33*$U$4 -> 0 | X33: =W33*$W$4 -> 0 | Z33: =Y33*$Y$4 -> 0 | AB33: =AA33*$AA$4 -> 0 | AD33: =AC33*$AC$4 -> 0 | AF33: =AE33*$AE$4 -> 0 | AG33: =AF33+Z33+X33+V33+AB33+AD33 -> 0 | AH33: =IF($AG$4=0,0,AG33/$AG$4) -> 0
A34: Сода | B34: 0.96 | D34: =C34*$C$4 -> 0 | F34: =E34*$E$4 -> 0 | H34: =G34*$G$4 -> 0 | J34: =I34*$I$4 -> 0 | L34: =K34*$K$4 -> 0 | N34: =M34*$M$4 -> 0 | P34: =O34*$O$4 -> 0 | R34: =Q34*$Q$4 -> 0 | S34: =N34+L34+J34+H34+F34+D34+P34+R34 -> 0 | T34: =IF($S$4=0,0,S34/$S$4) -> 0 | V34: =U34*$U$4 -> 0 | X34: =W34*$W$4 -> 0 | Z34: =Y34*$Y$4 -> 0 | AB34: =AA34*$AA$4 -> 0 | AD34: =AC34*$AC$4 -> 0 | AF34: =AE34*$AE$4 -> 0 | AG34: =AF34+Z34+X34+V34+AB34+AD34 -> 0 | AH34: =IF($AG$4=0,0,AG34/$AG$4) -> 0
A35: Мел | B35: 0.99 | D35: =C35*$C$4 -> 0 | F35: =E35*$E$4 -> 0 | H35: =G35*$G$4 -> 0 | J35: =I35*$I$4 -> 0 | L35: =K35*$K$4 -> 0 | N35: =M35*$M$4 -> 0 | P35: =O35*$O$4 -> 0 | R35: =Q35*$Q$4 -> 0 | S35: =N35+L35+J35+H35+F35+D35+P35+R35 -> 0 | T35: =IF($S$4=0,0,S35/$S$4) -> 0 | V35: =U35*$U$4 -> 0 | X35: =W35*$W$4 -> 0 | Z35: =Y35*$Y$4 -> 0 | AB35: =AA35*$AA$4 -> 0 | AD35: =AC35*$AC$4 -> 0 | AF35: =AE35*$AE$4 -> 0 | AG35: =AF35+Z35+X35+V35+AB35+AD35 -> 0 | AH35: =IF($AG$4=0,0,AG35/$AG$4) -> 0
A36: Мука известняковая | B36: 0.99 | D36: =C36*$C$4 -> 0 | F36: =E36*$E$4 -> 0 | H36: =G36*$G$4 -> 0 | J36: =I36*$I$4 -> 0 | L36: =K36*$K$4 -> 0 | N36: =M36*$M$4 -> 0 | P36: =O36*$O$4 -> 0 | R36: =Q36*$Q$4 -> 0 | S36: =N36+L36+J36+H36+F36+D36+P36+R36 -> 0 | T36: =IF($S$4=0,0,S36/$S$4) -> 0 | V36: =U36*$U$4 -> 0 | X36: =W36*$W$4 -> 0 | Z36: =Y36*$Y$4 -> 0 | AB36: =AA36*$AA$4 -> 0 | AD36: =AC36*$AC$4 -> 0 | AF36: =AE36*$AE$4 -> 0 | AG36: =AF36+Z36+X36+V36+AB36+AD36 -> 0 | AH36: =IF($AG$4=0,0,AG36/$AG$4) -> 0
... A70: new5 | B70: 0.01 | D70: =C70*$C$4 -> 0 | F70: =E70*$E$4 -> 0 | H70: =G70*$G$4 -> 0 | J70: =I70*$I$4 -> 0 | L70: =K70*$K$4 -> 0 | N70: =M70*$M$4 -> 0 | P70: =O70*$O$4 -> 0 | R70: =Q70*$Q$4 -> 0 | S70: =N70+L70+J70+H70+F70+D70+P70+R70 -> 0 | T70: =IF($S$4=0,0,S70/$S$4) -> 0 | V70: =U70*$U$4 -> 0 | X70: =W70*$W$4 -> 0 | Z70: =Y70*$Y$4 -> 0 | AB70: =AA70*$AA$4 -> 0 | AD70: =AC70*$AC$4 -> 0 | AF70: =AE70*$AE$4 -> 0 | AG70: =AF70+Z70+X70+V70+AB70+AD70 -> 0 | AH70: =IF($AG$4=0,0,AG70/$AG$4) -> 0
A71: Итого | C71: =SUM(C8:C70) -> 18.8 | E71: =SUM(E8:E70) -> 27.3 | G71: =SUM(G8:G70) -> 25.8 | I71: =SUM(I8:I70) -> 20 | K71: =SUM(K8:K70) -> 12.94 | M71: =SUM(M8:M70) -> 13.1 | O71: =SUM(O8:O70) -> 0 | Q71: =SUM(Q8:Q70) -> 0 | S71: =SUM(S8:S70) -> 45838.24 | T71: =SUM(T8:T70) -> 22.91912 | U71: =SUM(U8:U70) -> 0 | W71: =SUM(W8:W70) -> 5 | Y71: =SUM(Y8:Y70) -> 7 | AA71: =SUM(AA8:AA70) -> 9 | AC71: =SUM(AC8:AC70) -> 10.8 | AE71: =SUM(AE8:AE70) -> 12 | AG71: =SUM(AG8:AG70) -> 17487.6 | AH71: =SUM(AH8:AH70) -> 8.7438
A72: Оплата корма | C72: 1.5 | E72: 1.6 | G72: 1.6 | I72: 1.3 | T72: 1.4
A73: Прогноз молоко | C73: =C71*C72 -> 28.2 | D73: =D71*D72 -> 0 | E73: =E71*E72 -> 43.68 | F73: =F71*F72 -> 0 | G73: =G71*G72 -> 41.28 | H73: =H71*H72 -> 0 | I73: =I71*I72 -> 26 | T73: =T71*T72 -> 32.086768
A74: Количество ОК на 1гол в сут | C74: =SUM(C8:C14) -> 9.3 | D74: =SUM(D8:D14) -> 930 | E74: =SUM(E8:E14) -> 13.9 | F74: =SUM(F8:F14) -> 7735 | G74: =SUM(G8:G14) -> 12.9 | H74: =SUM(H8:H14) -> 10294.2 | I74: =SUM(I8:I14) -> 12.5 | J74: =SUM(J8:J14) -> 1875 | ... M74: =SUM(M8:M14) -> 9.2 | T74: =SUM(T8:T14) -> 11.9043 | U74: =SUM(U8:U14) -> 0 | V74: =SUM(V8:V14) -> 0 | W74: =SUM(W8:W14) -> 2 | X74: =SUM(X8:X14) -> 492 | Y74: =SUM(Y8:Y14) -> 4 | Z74: =SUM(Z8:Z14) -> 984 | AA74: =SUM(AA8:AA14) -> 6 | ... AE74: =SUM(AE8:AE14) -> 10.5 | AF74: =SUM(AF8:AF12) -> 4921 | AH74: =SUM(AH8:AH14) -> 6.7473
...

Sheet Потребность в кормах
A1: Потребность в кормах на ПХ | N1: 12 | O1: 60 | Q1: 0.15
A2: Компонент | B2: Потребление в сутки на коров, кг СВ | C2: Потребление в сутки на молодняк, кг СВ | D2: Итого потребление, кг СВ в сутки | E2: Итого потребление в месяц, кг СВ | F2: Итого потребление за 12 месяцев, кг СВ | G2: Страх.фонд на дней, кг СВ | H2: Итого, кг СВ с учетом страх.фонда | I2: Итого,кг СВ с учетом угара 15% | J2: Потребление в сутки на коров, кг ФВ | K2: Потребление в сутки на молодняк, кг ФВ | L2: Итого потребление в сутки, кг ФВ | M2: Итого потребление в месяц, кг ФВ | N2: Итого потребление за 12 месяцев, кг ФВ | O2: Страх.фонд на дней, кг ФВ | P2: Итого, кг ФВ с учетом страх.фонда | Q2: Итого, кг ФВ с учетом угара 15% | R2: Год | S2: Количество дней в месяце | T2: Дозировка консерванта, л/тн | U2: Объем консерванта, кг | W2: Стоимость, руб/кг | X2: Итоговая стоимсть кормов
A3: ='Плановый рацион'!A8 -> Силос кукурузный | B3: ='Плановый рацион'!S8 -> 10197 | C3: ='Плановый рацион'!AG8 -> 2390 | D3: =B3+C3 -> 12587 | E3: =D3*$S$3 -> 382644.8 | F3: =E3*$N$1 -> 4591737.6 | G3: =D3*$O$1 -> 755220 | H3: =F3+G3 -> 5346957.6 | I3: =H3+H3*$Q$1 -> 6149001.2 | J3: =IFERROR((B3/'Плановый рацион'!B8)," ") -> 29134.286 | K3: =IFERROR((C3/'Плановый рацион'!B8)," ") -> 6828.5714 | L3: =IFERROR((J3+K3),"") -> 35962.857 | M3: =IFERROR((L3*$S$3),"") -> 1093270.9 | N3: =M3*$N$1 -> 13119250 | O3: =L3*$O$1 -> 2157771.4 | P3: =N3+O3 -> 15277022 | Q3: =P3+P3*$Q$1 -> 17568575 | R3: 2026г | S3: 30.4 | T3: 1 | U3: =Q3*T3/1000 -> 17568.575 | V3: Силосейв Стопнагрев | W3: 3.5 | X3: =Q3*W3 -> 61490012
A4: ='Плановый рацион'!A9 -> Корнаж | B4: ='Плановый рацион'!S9 -> 6360.4 | C4: ='Плановый рацион'!AG9 -> 1511 | D4: =B4+C4 -> 7871.4 | E4: =D4*$S$3 -> 239290.56 | F4: =E4*$N$1 -> 2871486.7 | G4: =D4*$O$1 -> 472284 | H4: =F4+G4 -> 3343770.7 | I4: =H4+H4*$Q$1 -> 3845336.3 | J4: =IFERROR((B4/'Плановый рацион'!B9)," ") -> 11564.364 | K4: =IFERROR((C4/'Плановый рацион'!B9)," ") -> 2747.2727 | L4: =IFERROR((J4+K4),"") -> 14311.636 | M4: =IFERROR((L4*$S$3),"") -> 435073.75 | N4: =M4*$N$1 -> 5220884.9 | O4: =L4*$O$1 -> 858698.18 | P4: =N4+O4 -> 6079583.1 | Q4: =P4+P4*$Q$1 -> 6991520.6 | T4: 2 | U4: =Q4*T4/1000 -> 13983.041 | V4: Силосейв Стопнагрев | W4: 7 | X4: =Q4*W4 -> 48940644
A5: ='Плановый рацион'!A10 -> Сенаж люцерна | B5: ='Плановый рацион'!S10 -> 3361.4 | C5: ='Плановый рацион'!AG10 -> 4357 | D5: =B5+C5 -> 7718.4 | E5: =D5*$S$3 -> 234639.36 | F5: =E5*$N$1 -> 2815672.3 | G5: =D5*$O$1 -> 463104 | H5: =F5+G5 -> 3278776.3 | I5: =H5+H5*$Q$1 -> 3770592.8 | J5: =IFERROR((B5/'Плановый рацион'!B10)," ") -> 8845.7895 | K5: =IFERROR((C5/'Плановый рацион'!B10)," ") -> 11465.789 | L5: =IFERROR((J5+K5),"") -> 20311.579 | M5: =IFERROR((L5*$S$3),"") -> 617472 | N5: =M5*$N$1 -> 7409664 | O5: =L5*$O$1 -> 1218694.7 | P5: =N5+O5 -> 8628358.7 | Q5: =P5+P5*$Q$1 -> 9922612.5 | T5: 3 | U5: =Q5*T5/1000 -> 29767.838 | V5: Силосейв АциоПлюс | W5: 3.5 | X5: =Q5*W5 -> 34729144
A6: ='Плановый рацион'!A11 -> Сенаж однолетка | B6: ='Плановый рацион'!S11 -> 3572.8 | C6: ='Плановый рацион'!AG11 -> 4325 | D6: =B6+C6 -> 7897.8 | E6: =D6*$S$3 -> 240093.12 | F6: =E6*$N$1 -> 2881117.4 | G6: =D6*$O$1 -> 473868 | H6: =F6+G6 -> 3354985.4 | I6: =H6+H6*$Q$1 -> 3858233.3 | J6: =IFERROR((B6/'Плановый рацион'!B11)," ") -> 11165 | K6: =IFERROR((C6/'Плановый рацион'!B11)," ") -> 13515.625 | L6: =IFERROR((J6+K6),"") -> 24680.625 | M6: =IFERROR((L6*$S$3),"") -> 750291 | N6: =M6*$N$1 -> 9003492 | O6: =L6*$O$1 -> 1480837.5 | P6: =N6+O6 -> 10484330 | Q6: =P6+P6*$Q$1 -> 12056979 | T6: 3.5 | U6: =Q6*T6/1000 -> 42199.426 | V6: Силосейв Север | W6: 3.5 | X6: =Q6*W6 -> 42199426
A7: ='Плановый рацион'!A12 -> 0 | B7: ='Плановый рацион'!S12 -> 0 | C7: ='Плановый рацион'!AG12 -> 0 | D7: =B7+C7 -> 0 | E7: =D7*$S$3 -> 0 | F7: =E7*$N$1 -> 0 | G7: =D7*$O$1 -> 0 | H7: =F7+G7 -> 0 | I7: =H7+H7*$Q$1 -> 0 | J7: =IFERROR((B7/'Плановый рацион'!B12)," ") -> 0 | K7: =IFERROR((C7/'Плановый рацион'!B12)," ") -> 0 | L7: =IFERROR((J7+K7),"") -> 0 | M7: =IFERROR((L7*$S$3),"") -> 0 | N7: =M7*$N$1 -> 0 | O7: =L7*$O$1 -> 0 | P7: =N7+O7 -> 0 | Q7: =P7+P7*$Q$1 -> 0 | X7: =Q7*W7 -> 0
A8: ='Плановый рацион'!A13 -> Сено | B8: ='Плановый рацион'!S13 -> 0 | C8: ='Плановый рацион'!AG13 -> 0 | D8: =B8+C8 -> 0 | E8: =D8*$S$3 -> 0 | F8: =E8*$N$1 -> 0 | G8: =D8*$O$1 -> 0 | H8: =F8+G8 -> 0 | I8: =H8+H8*$Q$1 -> 0 | J8: =IFERROR((B8/'Плановый рацион'!B13)," ") -> 0 | K8: =IFERROR((C8/'Плановый рацион'!B13)," ") -> 0 | L8: =IFERROR((J8+K8),"") -> 0 | M8: =IFERROR((L8*$S$3),"") -> 0 | N8: =M8*$N$1 -> 0 | O8: =L8*$O$1 -> 0 | P8: =N8+O8 -> 0 | Q8: =P8+P8*$Q$1 -> 0 | X8: =Q8*W8 -> 0
A9: ='Плановый рацион'!A14 -> Солома | B9: ='Плановый рацион'!S14 -> 317 | C9: ='Плановый рацион'!AG14 -> 911.6 | D9: =B9+C9 -> 1228.6 | E9: =D9*$S$3 -> 37349.44 | F9: =E9*$N$1 -> 448193.28 | G9: =D9*$O$1 -> 73716 | H9: =F9+G9 -> 521909.28 | I9: =H9+H9*$Q$1 -> 600195.67 | J9: =IFERROR((B9/'Плановый рацион'!B14)," ") -> 352.22222 | K9: =IFERROR((C9/'Плановый рацион'!B14)," ") -> 1012.8889 | L9: =IFERROR((J9+K9),"") -> 1365.1111 | M9: =IFERROR((L9*$S$3),"") -> 41499.378 | N9: =M9*$N$1 -> 497992.53 | O9: =L9*$O$1 -> 81906.667 | P9: =N9+O9 -> 579899.2 | Q9: =P9+P9*$Q$1 -> 666884.08 | W9: 6.75 | X9: =Q9*W9 -> 4501467.5
A10: ='Плановый рацион'!A15 -> Комбикорм | B10: ='Плановый рацион'!S15 -> 22029.64 | C10: ='Плановый рацион'!AG15 -> 3993 | D10: =B10+C10 -> 26022.64 | E10: =D10*$S$3 -> 791088.26 | F10: =E10*$N$1 -> 9493059.1 | G10: =D10*$O$1 -> 1561358.4 | H10: =F10+G10 -> 11054417 | I10: =H10+H10*$Q$1 -> 12712580 | J10: =IFERROR((B10/'Плановый рацион'!B15)," ") -> 24836.122 | K10: =IFERROR((C10/'Плановый рацион'!B15)," ") -> 4501.6911 | L10: =IFERROR((J10+K10),"") -> 29337.813 | M10: =IFERROR((L10*$S$3),"") -> 891869.51 | N10: =M10*$N$1 -> 10702434 | O10: =L10*$O$1 -> 1760268.8 | P10: =N10+O10 -> 12462703 | Q10: =P10+P10*$Q$1 -> 14332108 | X10: =Q10*W10 -> 0
A11: ='Плановый рацион'!A16 -> КК первотелки | B11: ='Плановый рацион'!S16 -> 0 | C11: ='Плановый рацион'!AG16 -> 0 | D11: =B11+C11 -> 0 | J11: =IFERROR((B11/'Плановый рацион'!B16)," ") -> 0 | K11: =IFERROR((C11/'Плановый рацион'!B16)," ") -> 0 | L11: =IFERROR((J11+K11),"") -> 0 | M11: =IFERROR((L11*$S$3),"") -> 0 | N11: =M11*12 -> 0 | O11: =L11*$O$1 -> 0 | P11: =N11+O11 -> 0 | X11: =P11*W11 -> 0
A12: ='Плановый рацион'!A17 -> КК_произ | B12: ='Плановый рацион'!S17 -> 0 | C12: ='Плановый рацион'!AG17 -> 0 | D12: =B12+C12 -> 0 | J12: =IFERROR((B12/'Плановый рацион'!B17)," ") -> 0 | K12: =IFERROR((C12/'Плановый рацион'!B17)," ") -> 0 | L12: =IFERROR((J12+K12),"") -> 0 | M12: =IFERROR((L12*$S$3),"") -> 0 | N12: =M12*12 -> 0 | O12: =L12*$O$1 -> 0 | P12: =N12+O12 -> 0 | X12: =P12*W12 -> 0
A13: ='Плановый рацион'!A18 -> КК_мол_6_20м | B13: ='Плановый рацион'!S18+#REF!+#REF! -> #REF! | C13: ='Плановый рацион'!AG18+#REF!+#REF! -> #REF! | D13: =B13+C13 -> #REF! | J13: =IFERROR((B13/'Плановый рацион'!B18)," ") | K13: =IFERROR((C13/'Плановый рацион'!B18)," ") | L13: =IFERROR((J13+K13),"") | M13: =IFERROR((L13*$S$3),"") | N13: =M13*12 -> #VALUE! | O13: =L13*$O$1 -> #VALUE! | P13: =N13+O13 -> #VALUE! | X13: =P13*W13 -> #VALUE!
A14: ='Плановый рацион'!A19 -> КК_поздний_сух | B14: ='Плановый рацион'!S19+#REF!+#REF! -> #REF! | C14: ='Плановый рацион'!AG19+#REF!+#REF! -> #REF! | D14: =B14+C14 -> #REF! | J14: =IFERROR((B14/'Плановый рацион'!B19)," ") | K14: =IFERROR((C14/'Плановый рацион'!B19)," ") | L14: =IFERROR((J14+K14),"") | M14: =IFERROR((L14*$S$3),"") | N14: =M14*12 -> #VALUE! | O14: =L14*$O$1 -> #VALUE! | P14: =N14+O14 -> #VALUE! | X14: =P14*W14 -> #VALUE!
A15: ='Плановый рацион'!A20 -> КК_мол_3_6м | B15: ='Плановый рацион'!S20+#REF!+#REF! -> #REF! | C15: ='Плановый рацион'!AG20+#REF!+#REF! -> #REF! | D15: =B15+C15 -> #REF! | J15: =IFERROR((B15/'Плановый рацион'!B20)," ") | K15: =IFERROR((C15/'Плановый рацион'!B20)," ") | L15: =IFERROR((J15+K15),"") | M15: =IFERROR((L15*$S$3),"") | N15: =M15*12 -> #VALUE! | O15: =L15*$O$1 -> #VALUE! | P15: =N15+O15 -> #VALUE! | X15: =P15*W15 -> #VALUE!
A16: ='Плановый рацион'!A21 -> КК_ранний_сух | B16: ='Плановый рацион'!S21+#REF!+#REF! -> #REF! | C16: ='Плановый рацион'!AG21+#REF!+#REF! -> #REF! | D16: =B16+C16 -> #REF! | J16: =IFERROR((B16/'Плановый рацион'!B21)," ") | K16: =IFERROR((C16/'Плановый рацион'!B21)," ") | L16: =IFERROR((J16+K16),"") | M16: =IFERROR((L16*$S$3),"") | N16: =M16*12 -> #VALUE! | O16: =L16*$O$1 -> #VALUE! | P16: =N16+O16 -> #VALUE! | X16: =P16*W16 -> #VALUE!
A17: ='Плановый рацион'!A22 -> 0 | B17: ='Плановый рацион'!S22+#REF! -> #REF! | C17: ='Плановый рацион'!AG22+#REF! -> #REF! | D17: =B17+C17 -> #REF! | J17: =IFERROR((('Плановый рацион'!S22+#REF!)/'Плановый рацион'!B22),"") | K17: =IFERROR((('Плановый рацион'!AG22+#REF!)/'Плановый рацион'!B22),"") | L17: =IFERROR((J17+K17),"") | M17: =IFERROR((L17*$S$3),"") | O17: =IFERROR(N17/M17,"") | X17: =P17*W17 -> 0
A18: ='Плановый рацион'!A23 -> 0 | B18: ='Плановый рацион'!S23+#REF! -> #REF! | C18: ='Плановый рацион'!AG23+#REF! -> #REF! | D18: =B18+C18 -> #REF! | J18: =IFERROR((('Плановый рацион'!S23+#REF!)/'Плановый рацион'!B23),"") | K18: =IFERROR((('Плановый рацион'!AG23+#REF!)/'Плановый рацион'!B23),"") | L18: =IFERROR((J18+K18),"") | M18: =IFERROR((L18*$S$3),"") | O18: =IFERROR(N18/M18,"") | X18: =P18*W18 -> 0
A19: ='Плановый рацион'!A24 -> 0 | B19: ='Плановый рацион'!S24+#REF! -> #REF! | C19: ='Плановый рацион'!AG24+#REF! -> #REF! | D19: =B19+C19 -> #REF! | J19: =IFERROR((('Плановый рацион'!S24+#REF!)/'Плановый рацион'!B24),"") | K19: =IFERROR((('Плановый рацион'!AG24+#REF!)/'Плановый рацион'!B24),"") | L19: =IFERROR((J19+K19),"") | M19: =IFERROR((L19*$S$3),"") | O19: =IFERROR(N19/M19,"") | X19: =P19*W19 -> 0
A20: ='Плановый рацион'!A25 -> Кукуруза | B20: ='Плановый рацион'!S25+#REF! -> #REF! | C20: ='Плановый рацион'!AG25+#REF! -> #REF! | D20: =B20+C20 -> #REF! | J20: =IFERROR((('Плановый рацион'!S25+#REF!)/'Плановый рацион'!B25),"") | K20: =IFERROR((('Плановый рацион'!AG25+#REF!)/'Плановый рацион'!B25),"") | L20: =IFERROR((J20+K20),"") | M20: =IFERROR((L20*$S$3),"") | O20: =IFERROR(N20/M20,"") | X20: =P20*W20 -> 0
A21: ='Плановый рацион'!A26 -> Ячмень | B21: ='Плановый рацион'!S26+#REF! -> #REF! | C21: ='Плановый рацион'!AG26+#REF! -> #REF! | D21: =B21+C21 -> #REF! | J21: =IFERROR((('Плановый рацион'!S26+#REF!)/'Плановый рацион'!B26),"") | K21: =IFERROR((('Плановый рацион'!AG26+#REF!)/'Плановый рацион'!B26),"") | L21: =IFERROR((J21+K21),"") | M21: =IFERROR((L21*$S$3),"") | O21: =IFERROR(N21/M21,"") | X21: =P21*W21 -> 0
A22: ='Плановый рацион'!A27 -> Пшеница | B22: ='Плановый рацион'!S27+#REF! -> #REF! | C22: ='Плановый рацион'!AG27+#REF! -> #REF! | D22: =B22+C22 -> #REF! | J22: =IFERROR((('Плановый рацион'!S27+#REF!)/'Плановый рацион'!B27),"") | K22: =IFERROR((('Плановый рацион'!AG27+#REF!)/'Плановый рацион'!B27),"") | L22: =IFERROR((J22+K22),"") | M22: =IFERROR((L22*$S$3),"") | O22: =IFERROR(N22/M22,"") | X22: =P22*W22 -> 0
A23: ='Плановый рацион'!A28 -> Овес | B23: ='Плановый рацион'!S28+#REF! -> #REF! | C23: ='Плановый рацион'!AG28+#REF! -> #REF! | D23: =B23+C23 -> #REF! | J23: =IFERROR((('Плановый рацион'!S28+#REF!)/'Плановый рацион'!B28),"") | K23: =IFERROR((('Плановый рацион'!AG28+#REF!)/'Плановый рацион'!B28),"") | L23: =IFERROR((J23+K23),"") | M23: =IFERROR((L23*$S$3),"") | O23: =IFERROR(N23/M23,"") | X23: =P23*W23 -> 0
A24: ='Плановый рацион'!A29 -> Кукуруза плющеная | B24: ='Плановый рацион'!S29+#REF! -> #REF! | C24: ='Плановый рацион'!AG29+#REF! -> #REF! | D24: =B24+C24 -> #REF! | J24: =IFERROR((('Плановый рацион'!S29+#REF!)/'Плановый рацион'!B29),"") | K24: =IFERROR((('Плановый рацион'!AG29+#REF!)/'Плановый рацион'!B29),"") | L24: =IFERROR((J24+K24),"") | M24: =IFERROR((L24*$S$3),"") | O24: =IFERROR(N24/M24,"") | X24: =P24*W24 -> 0
A25: ='Плановый рацион'!A30 -> Корнаж | B25: ='Плановый рацион'!S30+#REF! -> #REF! | C25: ='Плановый рацион'!AG30+#REF! -> #REF! | D25: =B25+C25 -> #REF! | J25: =IFERROR((('Плановый рацион'!S30+#REF!)/'Плановый рацион'!B30),"") | K25: =IFERROR((('Плановый рацион'!AG30+#REF!)/'Плановый рацион'!B30),"") | L25: =IFERROR((J25+K25),"") | M25: =IFERROR((L25*$S$3),"") | O25: =IFERROR(N25/M25,"") | X25: =P25*W25 -> 0
A26: ='Плановый рацион'!A31 -> Отруби | B26: ='Плановый рацион'!S31+#REF! -> #REF! | C26: ='Плановый рацион'!AG31+#REF! -> #REF! | D26: =B26+C26 -> #REF! | J26: =IFERROR((('Плановый рацион'!S31+#REF!)/'Плановый рацион'!B31),"") | K26: =IFERROR((('Плановый рацион'!AG31+#REF!)/'Плановый рацион'!B31),"") | L26: =IFERROR((J26+K26),"") | M26: =IFERROR((L26*$S$3),"") | O26: =IFERROR(N26/M26,"") | X26: =P26*W26 -> 0
A27: ='Плановый рацион'!A32 -> Зерновой корм 1 | B27: ='Плановый рацион'!S32+#REF! -> #REF! | C27: ='Плановый рацион'!AG32+#REF! -> #REF! | D27: =B27+C27 -> #REF! | J27: =IFERROR((('Плановый рацион'!S32+#REF!)/'Плановый рацион'!B32),"") | K27: =IFERROR((('Плановый рацион'!AG32+#REF!)/'Плановый рацион'!B32),"") | L27: =IFERROR((J27+K27),"") | M27: =IFERROR((L27*$S$3),"") | O27: =IFERROR(N27/M27,"") | X27: =P27*W27 -> 0
A28: ='Плановый рацион'!A33 -> Соль | B28: ='Плановый рацион'!S33+#REF! -> #REF! | C28: ='Плановый рацион'!AG33+#REF! -> #REF! | D28: =B28+C28 -> #REF! | J28: =IFERROR((('Плановый рацион'!S33+#REF!)/'Плановый рацион'!B33),"") | K28: =IFERROR((('Плановый рацион'!AG33+#REF!)/'Плановый рацион'!B33),"") | L28: =IFERROR((J28+K28),"") | M28: =IFERROR((L28*$S$3),"") | O28: =IFERROR(N28/M28,"") | X28: =P28*W28 -> 0
... A65: ='Плановый рацион'!A70 -> new5 | B65: ='Плановый рацион'!S70+#REF! -> #REF! | C65: ='Плановый рацион'!AG70+#REF! -> #REF! | D65: =B65+C65 -> #REF! | J65: =IFERROR((('Плановый рацион'!S70+#REF!)/'Плановый рацион'!B70),"") | K65: =IFERROR((('Плановый рацион'!AG70+#REF!)/'Плановый рацион'!B70),"") | L65: =IFERROR((J65+K65),"") | M65: =IFERROR((L65*$S$3),"") | O65: =IFERROR(N65/M65,"") | X65: =P65*W65 -> 0
A66: Итого | B66: =SUM(B3:B10) -> 45838.24 | C66: =SUM(C3:C10) -> 17487.6 | D66: =SUM(D3:D10) -> 63325.84 | E66: =SUM(E3:E10) -> 1925105.5 | F66: =SUM(F3:F10) -> 23101266 | G66: =SUM(G3:G10) -> 3799550.4 | H66: =SUM(H3:H10) -> 26900817 | I66: =SUM(I3:I10) -> 30935939 | J66: =SUM(J3:J65) -> 85897.783 | K66: =SUM(K3:K65) -> 40071.839 | L66: =SUM(L3:L65) -> 125969.62 | M66: =SUM(M3:M65) -> 3829476.5 | N66: =SUM(N3:N10) -> 45953718 | O66: =SUM(O3:O10) -> 7558177.3 | P66: =SUM(P3:P10) -> 53511895 | Q66: =SUM(Q3:Q10) -> 61538679 | X66: =P66*W66 -> 0
C68: В ходе вебинара подробно рассматривались продукты, помогающие реализовать эти задачи на практике.
D83: Нажмите на изображение - откроется страница с полным описанием и характеристиками на нашем сайте.

Sheet Баланс кормов
A1: Баланс кормов_(ОБРАЗЕЦ)_2026-2027гг
A3: Регион
A4: Хозяйство
A5: Среднегодов. поголовье фуражных коров, гол | C5: ='Плановый рацион'!S4 -> 2000 | D5: =SUM(C5:C5) -> 2000
A6: Сенаж | B6: Прогнозный остаток прошлых лет на 01.08.2026г., тн СВ | C6: 0 | D6: =SUM(C6:C6) -> 0
B7: Заготовка 2026г. за вычетом угара, тн СВ | C7: 6634 | D7: =SUM(C7:C7) -> 6634
B8: потребность с 01.08.26 по 01.08.27, тн СВ | C8: =(('Потребность в кормах'!H5+'Потребность в кормах'!H6)/1000) -> 6633.7618 | D8: =SUM(C8:C8) -> 6633.7618
B9: Баланс (переходящий остаток на начало скармливания кормов урожая 2027г.) , тн СВ | C9: =C6+C7-C8 -> 0.23824 | D9: =SUM(C9:C9) -> 0.23824
A10: Корнаж | B10: Прогнозный остаток прошлых лет на 01.04.2026г., тн СВ | C10: 0 | D10: =SUM(C10) -> 0
B11: Заготовка 2026г. за вычетом угара, тн СВ | C11: 2871 | D11: =SUM(C11) -> 2871
B12: потребность с 01.11.26 по 01.11.27, тн СВ | C12: ='Потребность в кормах'!F4/1000 -> 2871.4867 | D12: =SUM(C12) -> 2871.4867
B13: Баланс (переходящий остаток на начало скармливания кормов урожая 2027г.) , тн СВ | C13: =C11+C10-C12 -> -0.48672 | D13: =SUM(C13) -> -0.48672
A14: Сено | B14: Прогнозный остаток прошлых лет на 01.04.2026г., тн СВ | C14: 0 | D14: =SUM(C14:C14) -> 0
B15: Заготовка 2026г., тн СВ | C15: 100 | D15: =SUM(C15:C15) -> 100
B16: потребность с 01.08.26 по 01.08.27, тн СВ | C16: ='Потребность в кормах'!H8/1000 -> 0 | D16: =SUM(C16:C16) -> 0
B17: Баланс (переходящий остаток на начало скармливания кормов урожая 2027г.) , тн СВ | C17: =C14+C15-C16 -> 100 | D17: =SUM(C17:C17) -> 100
A18: Солома | B18: Заготовка 2026г., тн СВ | C18: 600 | D18: =SUM(C18:C18) -> 600
B19: Потребность с 01.08.26 по 01.08.27, тн СВ | C19: ='Потребность в кормах'!H9/1000 -> 521.90928 | D19: =SUM(C19:C19) -> 521.90928
B20: Баланс (переходящий остаток на начало скармливания кормов урожая 2023г.) , тн СВ | C20: =C18-C19 -> 78.09072 | D20: =SUM(C20:C20) -> 78.09072
A21: Силос | B21: Прогнозный остаток прошлых лет на 01.11.2026г., тн СВ | C21: 0 | D21: =SUM(C21:C21) -> 0
B22: Заготовка 2026г. за вычетом угара, тн СВ | C22: 9000 | D22: =SUM(C22:C22) -> 9000
B23: потребность с 01.11.26 по 01.11.27, тн СВ | C23: =('Потребность в кормах'!H3+'Потребность в кормах'!H4)/1000 -> 8690.7283 | D23: =SUM(C23:C23) -> 8690.7283
B24: Баланс (переходящий остаток на начало скармливания кормов урожая 2027г.) , тн СВ | C24: =C21+C22-C23 -> 309.27168 | D24: =SUM(C24:C24) -> 309.27168
A25: Итого грубых кормов | B25: Прогнозный остаток прошлых лет, тн СВ | C25: =C14+C21+C6 -> 0 | D25: =SUM(C25:C25) -> 0
B26: Заготовка 2026г. за вычетом угара, тн СВ | C26: =C15+C22+C7+C18+C11 -> 19205 | D26: =SUM(C26:C26) -> 19205
B27: Потребность в кормах до начала скармливания кормов урожая 2027г., тн СВ | C27: =C16+C23+C19+C8+C12 -> 18717.886 | D27: =SUM(C27:C27) -> 18717.886
B28: Баланс, тн СВ | C28: =C17+C24+C20+C9 -> 487.60064 | D28: =SUM(C28:C28) -> 487.60064
